BEGIN:VCALENDAR
VERSION:2.0
PRODID:-//OCRA-DG - Regulatory Affairs - ECPv6.11.2.1//NONSGML v1.0//EN
CALSCALE:GREGORIAN
METHOD:PUBLISH
X-WR-CALNAME:OCRA-DG - Regulatory Affairs
X-ORIGINAL-URL:https://ocra-dg.org
X-WR-CALDESC:Events for OCRA-DG - Regulatory Affairs
REFRESH-INTERVAL;VALUE=DURATION:PT1H
X-Robots-Tag:noindex
X-PUBLISHED-TTL:PT1H
BEGIN:VTIMEZONE
TZID:America/Los_Angeles
BEGIN:DAYLIGHT
TZOFFSETFROM:-0800
TZOFFSETTO:-0700
TZNAME:PDT
DTSTART:20240310T100000
END:DAYLIGHT
BEGIN:STANDARD
TZOFFSETFROM:-0700
TZOFFSETTO:-0800
TZNAME:PST
DTSTART:20241103T090000
END:STANDARD
END:VTIMEZONE
BEGIN:VEVENT
DTSTART;TZID=America/Los_Angeles:20240802T080000
DTEND;TZID=America/Los_Angeles:20240802T170000
DTSTAMP:20260419T053117
CREATED:20230228T154326Z
LAST-MODIFIED:20240505T053121Z
UID:27134-1722585600-1722618000@ocra-dg.org
SUMMARY:2024 OCRA 30th Anniversary Annual Conference
DESCRIPTION:See https://ocra-dg.org/2024-annual-conference/ for event details!
URL:https://ocra-dg.org/2024-annual-conference/
CATEGORIES:Events,In Person,Networking,OCRA Meetings
END:VEVENT
END:VCALENDAR